BEGIN:VCALENDAR
VERSION:2.0
PRODID:-//Mandy Ramsey - ECPv6.15.20//NONSGML v1.0//EN
CALSCALE:GREGORIAN
METHOD:PUBLISH
X-WR-CALNAME:Mandy Ramsey
X-ORIGINAL-URL:https://www.mandyramsey.com
X-WR-CALDESC:Events for Mandy Ramsey
REFRESH-INTERVAL;VALUE=DURATION:PT1H
X-Robots-Tag:noindex
X-PUBLISHED-TTL:PT1H
BEGIN:VTIMEZONE
TZID:America/New_York
BEGIN:DAYLIGHT
TZOFFSETFROM:-0500
TZOFFSETTO:-0400
TZNAME:EDT
DTSTART:20250309T070000
END:DAYLIGHT
BEGIN:STANDARD
TZOFFSETFROM:-0400
TZOFFSETTO:-0500
TZNAME:EST
DTSTART:20251102T060000
END:STANDARD
BEGIN:DAYLIGHT
TZOFFSETFROM:-0500
TZOFFSETTO:-0400
TZNAME:EDT
DTSTART:20260308T070000
END:DAYLIGHT
BEGIN:STANDARD
TZOFFSETFROM:-0400
TZOFFSETTO:-0500
TZNAME:EST
DTSTART:20261101T060000
END:STANDARD
BEGIN:DAYLIGHT
TZOFFSETFROM:-0500
TZOFFSETTO:-0400
TZNAME:EDT
DTSTART:20270314T070000
END:DAYLIGHT
BEGIN:STANDARD
TZOFFSETFROM:-0400
TZOFFSETTO:-0500
TZNAME:EST
DTSTART:20271107T060000
END:STANDARD
END:VTIMEZONE
BEGIN:VTIMEZONE
TZID:America/Anchorage
BEGIN:DAYLIGHT
TZOFFSETFROM:-0900
TZOFFSETTO:-0800
TZNAME:AKDT
DTSTART:20250309T110000
END:DAYLIGHT
BEGIN:STANDARD
TZOFFSETFROM:-0800
TZOFFSETTO:-0900
TZNAME:AKST
DTSTART:20251102T100000
END:STANDARD
BEGIN:DAYLIGHT
TZOFFSETFROM:-0900
TZOFFSETTO:-0800
TZNAME:AKDT
DTSTART:20260308T110000
END:DAYLIGHT
BEGIN:STANDARD
TZOFFSETFROM:-0800
TZOFFSETTO:-0900
TZNAME:AKST
DTSTART:20261101T100000
END:STANDARD
BEGIN:DAYLIGHT
TZOFFSETFROM:-0900
TZOFFSETTO:-0800
TZNAME:AKDT
DTSTART:20270314T110000
END:DAYLIGHT
BEGIN:STANDARD
TZOFFSETFROM:-0800
TZOFFSETTO:-0900
TZNAME:AKST
DTSTART:20271107T100000
END:STANDARD
END:VTIMEZONE
BEGIN:VEVENT
DTSTART;TZID=America/New_York:20260210T100000
DTEND;TZID=America/New_York:20260210T150000
DTSTAMP:20260425T043954
CREATED:20260210T153912Z
LAST-MODIFIED:20260210T154728Z
UID:3961-1770717600-1770735600@www.mandyramsey.com
SUMMARY:Year of the Fire Horse Retreat\, Sarasota Healing Arts Center\, FLA- February 15\, 2026
DESCRIPTION:Year of the Fire Horse Retreat- Remember- Your Divine Spark: A Sacred Encounter to Remind YOU Why You are Here\nExperience the feeling of freedom from all that no longer serves you. After a curated release ritual\, imagine how it will feel to finally be unburdened from all you have carried. Shedding that snake skin from last year and the past 9-year cycle affords you the freedom to align with the Year of the Horse. From this place\, you will take the reins and guide your story with you ONLY as the priority. This is creative\, expansive\, joyous energy for YOU to harness as you create the NEWest\, most optimal version of YOURSELF! \n\n Intention setting and fire ritual \nMorning Qi Gong warm up\, practice\, & meditation \nJournal reflection and clay formation\nDr. J’s Wholesome Whole Food Lunch\nElemental embodiment experience while we digest\nCreative Candle Art– no experience needed!\nWe will end with nourishing Yoga Nidra and Crystal Bowl Sound Bath!\n\nSpace is limited. \nTO REGISTER \nSarasota Healing Arts Center\, FLA- February 15\, 2026
URL:https://www.mandyramsey.com/event-null/year-of-the-fire-horse-retreat-sarasota-healing-arts-center-fla-february-15-2026/
LOCATION:Sarasota Healing Arts\, 3260 Fruitville Road\, Sarasota\, FL\, 34237\, United States
CATEGORIES:Events,Retreats,Sound Bath,Workshops
ATTACH;FMTTYPE=image/jpeg:https://www.mandyramsey.com/wp-content/uploads/2026/02/Year-of-the-Horse-1.jpg
END:VEVENT
BEGIN:VEVENT
DTSTART;TZID=America/New_York:20260211T173000
DTEND;TZID=America/New_York:20260211T190000
DTSTAMP:20260425T043954
CREATED:20260210T155944Z
LAST-MODIFIED:20260210T155944Z
UID:3971-1770831000-1770836400@www.mandyramsey.com
SUMMARY:Art Exhibition and Reception - Vero Beach\, Florida- Feb 11\, 2026
DESCRIPTION:Annual UU Art Exhibition\nThis exhibition showcases the creative talents of members and friends of the Unitarian Universalist Fellowship of Vero Beach\, featuring a diverse range of artistic expression across multiple mediums. \n\n\nDetails\n\nDate:\n Exhibition: February 6-March 4th \nReception: Wednesday\, Feb 11\, 2026\nTime:\n\n5:30 – 7:00 pm\n\nCost:\nFree\n\n\n\n\n\nVenue\n\n\nEmerson Center-\n1590 27th Avenue\n\nVero\, FL 32960 United States\n\n\n  \n\n\n 
URL:https://www.mandyramsey.com/event-null/art-exhibition-anin-person-workshop-vero-beach-florida-february-8th-2-2/
LOCATION:Emerson Center\, 1590 27th Avenue\, Vero Beach\, FL\, 32960\, United States
CATEGORIES:Art Exhibition,Events
ATTACH;FMTTYPE=image/jpeg:https://www.mandyramsey.com/wp-content/uploads/2026/02/UU-Reception.jpg
END:VEVENT
BEGIN:VEVENT
DTSTART;TZID=America/New_York:20260221T160000
DTEND;TZID=America/New_York:20260221T180000
DTSTAMP:20260425T043954
CREATED:20251216T173000Z
LAST-MODIFIED:20260210T162441Z
UID:3955-1771689600-1771696800@www.mandyramsey.com
SUMMARY:Sand Art and Sound Bath\, South Beach-Vero Beach\, Florida- February 21\, 2026
DESCRIPTION:Sand Art and Sound Bath- Moving Forward Series- Saturday\, February 21 @4pm- South Beach\, Vero\nJoin Mandy and Lucie Burke for a gentle evening of remembrance by the sea.  Create simple sand art honoring loved ones\, then settle into a calming sound bowl meditation as the sun sets and the tide carries the moment forward. \n\n\nBenefits:\n\nMeaningful remembrance ritual\nGentle creative expression\nCalming sound bath by the ocean\nSpace for reflection and quiet healing\n\nWhat to Bring?:\n\nBring a yoga mat and towel/blanket for layers so you can relax comfortably during the sound bath.\n\n\nDate:\nFebruary 21\, 2026\nTime:\n\n 4:00 pm\n\nCost:\nPre-Registration Required- Free\n\nLimited Space \n\n\n\n\nVenue\n\n\nSouth Beach\, Vero Beach\, FL\n\n\n\nTo register via email\, Rachel at sugar.blooms.foundation@gmail.com \n\n\n 
URL:https://www.mandyramsey.com/event-null/sand-art-and-sound-bath-south-beach-vero-beach-florida-february-21-2026sand-art-and-sound-bath-vero-beach-florida-february-21-2026in-person-workshop-vero-beach-florida-february-8th-2/
LOCATION:South Beach\, Vero
CATEGORIES:Events,Sound Bath
ATTACH;FMTTYPE=image/jpeg:https://www.mandyramsey.com/wp-content/uploads/2025/12/Sound-Bath-Sugar-Bloom.jpg
ORGANIZER;CN="Sugarbloom":MAILTO:sugar.blooms.foundation@gmail.com
END:VEVENT
BEGIN:VEVENT
DTSTART;TZID=America/New_York:20260307T160000
DTEND;TZID=America/New_York:20260307T173000
DTSTAMP:20260425T043954
CREATED:20260210T162413Z
LAST-MODIFIED:20260210T162413Z
UID:3962-1772899200-1772904600@www.mandyramsey.com
SUMMARY:Sound Bowl Journey with Mandy\, Joyfit Studios- Vero Beach\, FLA- March 7\, 2026
DESCRIPTION:Sound Bowl Journey with Mandy\nAllow yourself to press pause and absorb the healing frequencies of rose quartz singing bowls. \nSlow down and sink into deep stillness as Mandy guides you through a short guided meditation followed by \nthe soothing vibrations of the rose quartz Himalayan singing bowls and chimes to calm your mind\, release stress\, and promote deep relaxation. \nSpace is limited. \nTo Register visit – Joyfit: A Movement Studio \n 
URL:https://www.mandyramsey.com/event-null/sound-bowls-journey-with-mandy-joyfit-studios-vero-beach-fla-march-7-2026let-go-and-fall-back-to-yourself-sarasota-healing-arts-center-fla-october-4-2025-2/
LOCATION:Joyfit: A Movement Studio\, 833 8th Street\, Vero Beach\, FL\, 32962\, United States
CATEGORIES:Events,Sound Bath
ATTACH;FMTTYPE=image/jpeg:https://www.mandyramsey.com/wp-content/uploads/2026/02/Joyfit-Sound.jpg
END:VEVENT
BEGIN:VEVENT
DTSTART;TZID=America/Anchorage:20260425T160000
DTEND;TZID=America/Anchorage:20260425T170000
DTSTAMP:20260425T043954
CREATED:20260408T155620Z
LAST-MODIFIED:20260408T155620Z
UID:4003-1777132800-1777136400@www.mandyramsey.com
SUMMARY:Sound Bowl Journey with Mandy\, Joyfit Studio- Vero Beach\, FLA~April 25\, 2026 4-5pm
DESCRIPTION:Sound Bowl Journey with Mandy\nAllow yourself to press pause and absorb the healing frequencies of rose quartz singing bowls. \nSlow down and sink into deep stillness as Mandy guides you through a short guided meditation followed by \nthe soothing vibrations of the rose quartz Himalayan singing bowls and chimes to calm your mind\, release stress\, and promote deep relaxation. \nSpace is limited. \nTo Register visit – Joyfit: A Movement Studio \n 
URL:https://www.mandyramsey.com/event-null/sound-bowl-journey-with-mandy-joyfit-studio-vero-beach-flaapril-25-2026-4-5pm/
CATEGORIES:Class,Events,Retreats,Sound Bath,Workshops
ATTACH;FMTTYPE=image/jpeg:https://www.mandyramsey.com/wp-content/uploads/2026/04/IMG_5697.jpeg
END:VEVENT
BEGIN:VEVENT
DTSTART;TZID=America/Anchorage:20260626T170000
DTEND;TZID=America/Anchorage:20260626T200000
DTSTAMP:20260425T043954
CREATED:20251002T184743Z
LAST-MODIFIED:20260210T154546Z
UID:3868-1782493200-1782504000@www.mandyramsey.com
SUMMARY:Art\, Write\, Yoga\, and Sound Workshop- Haines\, Alaska- June 26\, 2026
DESCRIPTION: Art\, Write\, Yoga\, and Sound Workshop- Haines\, Alaska \nCultivate your creativity with movement\, mindfulness practices\, writing prompts\, color and sound. Each participant will receive a journal\, art kit\, and sage bundle to keep.  \nJune 26\, 2026 \nADD TO CART
URL:https://www.mandyramsey.com/event-null/art-write-yoga-and-sound-workshop-haines-alaska-june-26-2026/
CATEGORIES:Events,Workshops
ATTACH;FMTTYPE=image/jpeg:https://www.mandyramsey.com/wp-content/uploads/2024/11/Heading-to-teach-Yoga-in-Florida.jpg
END:VEVENT
END:VCALENDAR