BEGIN:VCALENDAR
VERSION:2.0
PRODID:-//Mandy Ramsey - ECPv6.15.20//NONSGML v1.0//EN
CALSCALE:GREGORIAN
METHOD:PUBLISH
X-WR-CALNAME:Mandy Ramsey
X-ORIGINAL-URL:https://www.mandyramsey.com
X-WR-CALDESC:Events for Mandy Ramsey
REFRESH-INTERVAL;VALUE=DURATION:PT1H
X-Robots-Tag:noindex
X-PUBLISHED-TTL:PT1H
BEGIN:VTIMEZONE
TZID:America/Anchorage
BEGIN:DAYLIGHT
TZOFFSETFROM:-0900
TZOFFSETTO:-0800
TZNAME:AKDT
DTSTART:20240310T110000
END:DAYLIGHT
BEGIN:STANDARD
TZOFFSETFROM:-0800
TZOFFSETTO:-0900
TZNAME:AKST
DTSTART:20241103T100000
END:STANDARD
BEGIN:DAYLIGHT
TZOFFSETFROM:-0900
TZOFFSETTO:-0800
TZNAME:AKDT
DTSTART:20250309T110000
END:DAYLIGHT
BEGIN:STANDARD
TZOFFSETFROM:-0800
TZOFFSETTO:-0900
TZNAME:AKST
DTSTART:20251102T100000
END:STANDARD
BEGIN:DAYLIGHT
TZOFFSETFROM:-0900
TZOFFSETTO:-0800
TZNAME:AKDT
DTSTART:20260308T110000
END:DAYLIGHT
BEGIN:STANDARD
TZOFFSETFROM:-0800
TZOFFSETTO:-0900
TZNAME:AKST
DTSTART:20261101T100000
END:STANDARD
END:VTIMEZONE
BEGIN:VEVENT
DTSTART;TZID=America/Anchorage:20250627T170000
DTEND;TZID=America/Anchorage:20250627T200000
DTSTAMP:20260425T074506
CREATED:20241209T184548Z
LAST-MODIFIED:20250128T160509Z
UID:3634-1751043600-1751054400@www.mandyramsey.com
SUMMARY:Art\, Write\, Yoga\, and Sound Workshop- Haines\, Alaska- June 27\, 2025
DESCRIPTION: Art\, Write\, Yoga\, and Sound Workshop- Haines\, Alaska \nCultivate your creativity with movement\, mindfulness practices\, writing prompts\, color and sound. Each participant will receive a journal\, art kit\, and sage bundle to keep.  \nJune 27\, 2025- 5-8 pm @ Chilkat Inlet Retreat \nADD TO CART
URL:https://www.mandyramsey.com/event-null/in-person-workshop-haines-alaska-june-27-2025/
CATEGORIES:Events,Workshops
ATTACH;FMTTYPE=image/jpeg:https://www.mandyramsey.com/wp-content/uploads/2024/11/Heading-to-teach-Yoga-in-Florida.jpg
ORGANIZER;CN="Mandy Ramsey":MAILTO:mandyramseyyoga@gmail.com
END:VEVENT
BEGIN:VEVENT
DTSTART;TZID=America/Anchorage:20250528T090000
DTEND;TZID=America/Anchorage:20250528T170000
DTSTAMP:20260425T074506
CREATED:20241209T183739Z
LAST-MODIFIED:20250128T160632Z
UID:3632-1748422800-1748451600@www.mandyramsey.com
SUMMARY:Yoga and Soundbath- Skagway\, Alaska\, Date TBD
DESCRIPTION:Yoga and Soundbath- Skagway\, Alaska May 28th\, 2025 @ the Skagway Recreation Center \nJoin me for a Yoga Nidra Sound Bath experience to relax and ground as we align with the energy of spring. \nADD TO CART
URL:https://www.mandyramsey.com/event-null/in-person-class-skagway-alaska-may-28/
LOCATION:Skagway Community Health\, Fitness\, and Family Recreation Center\, Skagway\, AK\, 99840\, United States
CATEGORIES:Class,Events
ATTACH;FMTTYPE=image/jpeg:https://www.mandyramsey.com/wp-content/uploads/2022/05/Reconnecting-Thumbnail-4_25_22-1.jpg
ORGANIZER;CN="Mandy Ramsey":MAILTO:mandyramseyyoga@gmail.com
END:VEVENT
BEGIN:VEVENT
DTSTART;TZID=America/Anchorage:20250226T183000
DTEND;TZID=America/Anchorage:20250226T194500
DTSTAMP:20260425T074506
CREATED:20241209T173902Z
LAST-MODIFIED:20250114T232124Z
UID:3624-1740594600-1740599100@www.mandyramsey.com
SUMMARY:Notes from the Body Series- Part 4- February 26th Zoom Meeting
DESCRIPTION:This is the fourth course in the series called Notes From the Body Sessions\, hosted on Zoom on Wednesdays throughout the month of February. Bring an open mind\, a yoga mat\, a journal\, and a candle as we explore a blend of yoga and meditative writing prompts to deepen our practice and connection to ourselves. \nADD TO CART
URL:https://www.mandyramsey.com/event-null/notes-from-the-body-series-part-4-february-26th-zoom-meeting/
LOCATION:On-line
CATEGORIES:Events,Zoom meeting
ATTACH;FMTTYPE=image/jpeg:https://www.mandyramsey.com/wp-content/uploads/2024/11/Tree-Pose-in-the-garden.jpg
END:VEVENT
BEGIN:VEVENT
DTSTART;TZID=America/Anchorage:20250219T183000
DTEND;TZID=America/Anchorage:20250219T194500
DTSTAMP:20260425T074506
CREATED:20241209T173648Z
LAST-MODIFIED:20250114T232226Z
UID:3622-1739989800-1739994300@www.mandyramsey.com
SUMMARY:Notes from the Body Series- Part 3- February 19 Zoom Meeting
DESCRIPTION:This is the third gathering of the series Notes From the Body.  Bring an open mind along with a yoga mat\, a journal\, and a candle as we explore a blend of yoga and meditative writing prompts to deepen our practice and connection to ourselves. \nADD TO CART
URL:https://www.mandyramsey.com/event-null/notes-from-the-body-series-part-3-february-19-zoom-meeting/
LOCATION:On-line
CATEGORIES:Events,Zoom meeting
ATTACH;FMTTYPE=image/jpeg:https://www.mandyramsey.com/wp-content/uploads/2021/08/karuna-Compassion-Thumbnail-8_9_21.jpeg
ORGANIZER;CN="Mandy Ramsey":MAILTO:mandyramseyyoga@gmail.com
END:VEVENT
BEGIN:VEVENT
DTSTART;TZID=America/Anchorage:20250215T100000
DTEND;TZID=America/Anchorage:20250215T140000
DTSTAMP:20260425T074506
CREATED:20241209T174343Z
LAST-MODIFIED:20250114T231357Z
UID:3627-1739613600-1739628000@www.mandyramsey.com
SUMMARY:Self-Care Self-Love Retreat\, Sarasota\, FLA- February 15th\, 2025
DESCRIPTION:Gather at the sanctuary of Dr. Lipham in Sarasota to explore movement practices such as Yoga and Chi-Gung\, along with creative prompts\, meditation\, and a sound bath to fill your cup with self-love. Bring your own yoga mat. \nADD TO CART
URL:https://www.mandyramsey.com/event-null/self-care-self-love-retreat-sarasota-february-15th-2025/
LOCATION:Sarasota Healing Arts\, 3260 Fruitville Road\, Sarasota\, FL\, 34237\, United States
CATEGORIES:Events,Retreats
ATTACH;FMTTYPE=image/jpeg:https://www.mandyramsey.com/wp-content/uploads/2021/08/Focus-Drishti-Thumbnail-8_13_21.jpg
ORGANIZER;CN="Mandy Ramsey":MAILTO:mandyramseyyoga@gmail.com
END:VEVENT
BEGIN:VEVENT
DTSTART;TZID=America/Anchorage:20250212T183000
DTEND;TZID=America/Anchorage:20250212T194500
DTSTAMP:20260425T074506
CREATED:20241209T173227Z
LAST-MODIFIED:20250114T225056Z
UID:3618-1739385000-1739389500@www.mandyramsey.com
SUMMARY:Notes from the Body Series- Part 2 - February 12th Zoom Meeting
DESCRIPTION:This is the second gathering of the series Notes from the Body.  Bring an open mind along with a yoga mat\, a journal\, a candle as we explore a blend of yoga and meditative writing prompts to deepen our practice and connection to ourselves. \nADD TO CART
URL:https://www.mandyramsey.com/event-null/notes-from-the-body-series-part-2-february-12th-zoom-meeting/
LOCATION:On-line
CATEGORIES:Events,Zoom meeting
ATTACH;FMTTYPE=image/jpeg:https://www.mandyramsey.com/wp-content/uploads/2022/05/Spring-Shine-Thumbnail-5_20_21.jpg
ORGANIZER;CN="Mandy Ramsey":MAILTO:mandyramseyyoga@gmail.com
END:VEVENT
BEGIN:VEVENT
DTSTART;TZID=America/Anchorage:20250208T130000
DTEND;TZID=America/Anchorage:20250208T170000
DTSTAMP:20260425T074506
CREATED:20241209T183204Z
LAST-MODIFIED:20250114T231929Z
UID:3630-1739019600-1739034000@www.mandyramsey.com
SUMMARY:In-Person Self-care\, Creativity\, and Connection Workshop- Vero Beach\, Florida- February 8th
DESCRIPTION:Where: Vero Beach\, Florida \nWhen: February 8th\, 2025 \nCarve out the time for self-care\, creativity\, and connection as we explore writing prompts and yoga\, and create a vision board/dream map to set our intentions for the new year.
URL:https://www.mandyramsey.com/event-null/in-person-workshop-vero-beach-florida-february-8th/
CATEGORIES:Events,Workshops
ATTACH;FMTTYPE=image/jpeg:https://www.mandyramsey.com/wp-content/uploads/2024/12/Singing-Bowls.jpg
ORGANIZER;CN="Mandy Ramsey":MAILTO:mandyramseyyoga@gmail.com
END:VEVENT
BEGIN:VEVENT
DTSTART;TZID=America/Anchorage:20250205T183000
DTEND;TZID=America/Anchorage:20250205T194500
DTSTAMP:20260425T074506
CREATED:20241209T170707Z
LAST-MODIFIED:20250114T232318Z
UID:3613-1738780200-1738784700@www.mandyramsey.com
SUMMARY:Notes from the Body Series- Part 1-February 5 Zoom Meeting
DESCRIPTION:This is the first of a 4-part Series\, Called Notes From the Body Sessions\, hosted on Zoom on Wednesdays throughout the month of February. Bring an open mind\, a yoga mat\, a journal\, and a candle as we explore a blend of yoga and meditative writing prompts to deepen our practice and connection to ourselves. \nADD TO CART
URL:https://www.mandyramsey.com/event-null/notes-from-the-body-february-5-zoom-meeting-2/
LOCATION:On-line
CATEGORIES:Events,Zoom meeting
ATTACH;FMTTYPE=image/jpeg:https://www.mandyramsey.com/wp-content/uploads/2021/10/Inner-Spark-Thumbnail-9_13_21-1.jpg
ORGANIZER;CN="Mandy Ramsey":MAILTO:mandyramseyyoga@gmail.com
END:VEVENT
END:VCALENDAR