BEGIN:VCALENDAR
VERSION:2.0
PRODID:-//Mandy Ramsey - ECPv6.15.20//NONSGML v1.0//EN
CALSCALE:GREGORIAN
METHOD:PUBLISH
X-WR-CALNAME:Mandy Ramsey
X-ORIGINAL-URL:https://www.mandyramsey.com
X-WR-CALDESC:Events for Mandy Ramsey
REFRESH-INTERVAL;VALUE=DURATION:PT1H
X-Robots-Tag:noindex
X-PUBLISHED-TTL:PT1H
BEGIN:VTIMEZONE
TZID:America/Anchorage
BEGIN:DAYLIGHT
TZOFFSETFROM:-0900
TZOFFSETTO:-0800
TZNAME:AKDT
DTSTART:20240310T110000
END:DAYLIGHT
BEGIN:STANDARD
TZOFFSETFROM:-0800
TZOFFSETTO:-0900
TZNAME:AKST
DTSTART:20241103T100000
END:STANDARD
BEGIN:DAYLIGHT
TZOFFSETFROM:-0900
TZOFFSETTO:-0800
TZNAME:AKDT
DTSTART:20250309T110000
END:DAYLIGHT
BEGIN:STANDARD
TZOFFSETFROM:-0800
TZOFFSETTO:-0900
TZNAME:AKST
DTSTART:20251102T100000
END:STANDARD
BEGIN:DAYLIGHT
TZOFFSETFROM:-0900
TZOFFSETTO:-0800
TZNAME:AKDT
DTSTART:20260308T110000
END:DAYLIGHT
BEGIN:STANDARD
TZOFFSETFROM:-0800
TZOFFSETTO:-0900
TZNAME:AKST
DTSTART:20261101T100000
END:STANDARD
END:VTIMEZONE
BEGIN:VEVENT
DTSTART;TZID=America/Anchorage:20250627T170000
DTEND;TZID=America/Anchorage:20250627T200000
DTSTAMP:20260425T031921
CREATED:20241209T184548Z
LAST-MODIFIED:20250128T160509Z
UID:3634-1751043600-1751054400@www.mandyramsey.com
SUMMARY:Art\, Write\, Yoga\, and Sound Workshop- Haines\, Alaska- June 27\, 2025
DESCRIPTION: Art\, Write\, Yoga\, and Sound Workshop- Haines\, Alaska \nCultivate your creativity with movement\, mindfulness practices\, writing prompts\, color and sound. Each participant will receive a journal\, art kit\, and sage bundle to keep.  \nJune 27\, 2025- 5-8 pm @ Chilkat Inlet Retreat \nADD TO CART
URL:https://www.mandyramsey.com/event-null/in-person-workshop-haines-alaska-june-27-2025/
CATEGORIES:Events,Workshops
ATTACH;FMTTYPE=image/jpeg:https://www.mandyramsey.com/wp-content/uploads/2024/11/Heading-to-teach-Yoga-in-Florida.jpg
ORGANIZER;CN="Mandy Ramsey":MAILTO:mandyramseyyoga@gmail.com
END:VEVENT
END:VCALENDAR