BEGIN:VCALENDAR
VERSION:2.0
PRODID:-//Mandy Ramsey - ECPv6.15.20//NONSGML v1.0//EN
CALSCALE:GREGORIAN
METHOD:PUBLISH
X-WR-CALNAME:Mandy Ramsey
X-ORIGINAL-URL:https://www.mandyramsey.com
X-WR-CALDESC:Events for Mandy Ramsey
REFRESH-INTERVAL;VALUE=DURATION:PT1H
X-Robots-Tag:noindex
X-PUBLISHED-TTL:PT1H
BEGIN:VTIMEZONE
TZID:America/Anchorage
BEGIN:DAYLIGHT
TZOFFSETFROM:-0900
TZOFFSETTO:-0800
TZNAME:AKDT
DTSTART:20240310T110000
END:DAYLIGHT
BEGIN:STANDARD
TZOFFSETFROM:-0800
TZOFFSETTO:-0900
TZNAME:AKST
DTSTART:20241103T100000
END:STANDARD
BEGIN:DAYLIGHT
TZOFFSETFROM:-0900
TZOFFSETTO:-0800
TZNAME:AKDT
DTSTART:20250309T110000
END:DAYLIGHT
BEGIN:STANDARD
TZOFFSETFROM:-0800
TZOFFSETTO:-0900
TZNAME:AKST
DTSTART:20251102T100000
END:STANDARD
BEGIN:DAYLIGHT
TZOFFSETFROM:-0900
TZOFFSETTO:-0800
TZNAME:AKDT
DTSTART:20260308T110000
END:DAYLIGHT
BEGIN:STANDARD
TZOFFSETFROM:-0800
TZOFFSETTO:-0900
TZNAME:AKST
DTSTART:20261101T100000
END:STANDARD
END:VTIMEZONE
BEGIN:VEVENT
DTSTART;TZID=America/Anchorage:20250528T090000
DTEND;TZID=America/Anchorage:20250528T170000
DTSTAMP:20260425T031921
CREATED:20241209T183739Z
LAST-MODIFIED:20250128T160632Z
UID:3632-1748422800-1748451600@www.mandyramsey.com
SUMMARY:Yoga and Soundbath- Skagway\, Alaska\, Date TBD
DESCRIPTION:Yoga and Soundbath- Skagway\, Alaska May 28th\, 2025 @ the Skagway Recreation Center \nJoin me for a Yoga Nidra Sound Bath experience to relax and ground as we align with the energy of spring. \nADD TO CART
URL:https://www.mandyramsey.com/event-null/in-person-class-skagway-alaska-may-28/
LOCATION:Skagway Community Health\, Fitness\, and Family Recreation Center\, Skagway\, AK\, 99840\, United States
CATEGORIES:Class,Events
ATTACH;FMTTYPE=image/jpeg:https://www.mandyramsey.com/wp-content/uploads/2022/05/Reconnecting-Thumbnail-4_25_22-1.jpg
ORGANIZER;CN="Mandy Ramsey":MAILTO:mandyramseyyoga@gmail.com
END:VEVENT
END:VCALENDAR