BEGIN:VCALENDAR
VERSION:2.0
PRODID:-//Mandy Ramsey - ECPv6.15.20//NONSGML v1.0//EN
CALSCALE:GREGORIAN
METHOD:PUBLISH
X-ORIGINAL-URL:https://www.mandyramsey.com
X-WR-CALDESC:Events for Mandy Ramsey
REFRESH-INTERVAL;VALUE=DURATION:PT1H
X-Robots-Tag:noindex
X-PUBLISHED-TTL:PT1H
BEGIN:VTIMEZONE
TZID:America/New_York
BEGIN:DAYLIGHT
TZOFFSETFROM:-0500
TZOFFSETTO:-0400
TZNAME:EDT
DTSTART:20250309T070000
END:DAYLIGHT
BEGIN:STANDARD
TZOFFSETFROM:-0400
TZOFFSETTO:-0500
TZNAME:EST
DTSTART:20251102T060000
END:STANDARD
BEGIN:DAYLIGHT
TZOFFSETFROM:-0500
TZOFFSETTO:-0400
TZNAME:EDT
DTSTART:20260308T070000
END:DAYLIGHT
BEGIN:STANDARD
TZOFFSETFROM:-0400
TZOFFSETTO:-0500
TZNAME:EST
DTSTART:20261101T060000
END:STANDARD
BEGIN:DAYLIGHT
TZOFFSETFROM:-0500
TZOFFSETTO:-0400
TZNAME:EDT
DTSTART:20270314T070000
END:DAYLIGHT
BEGIN:STANDARD
TZOFFSETFROM:-0400
TZOFFSETTO:-0500
TZNAME:EST
DTSTART:20271107T060000
END:STANDARD
END:VTIMEZONE
BEGIN:VEVENT
DTSTART;TZID=America/New_York:20260211T173000
DTEND;TZID=America/New_York:20260211T190000
DTSTAMP:20260424T174506
CREATED:20260210T155944Z
LAST-MODIFIED:20260210T155944Z
UID:3971-1770831000-1770836400@www.mandyramsey.com
SUMMARY:Art Exhibition and Reception - Vero Beach\, Florida- Feb 11\, 2026
DESCRIPTION:Annual UU Art Exhibition\nThis exhibition showcases the creative talents of members and friends of the Unitarian Universalist Fellowship of Vero Beach\, featuring a diverse range of artistic expression across multiple mediums. \n\n\nDetails\n\nDate:\n Exhibition: February 6-March 4th \nReception: Wednesday\, Feb 11\, 2026\nTime:\n\n5:30 – 7:00 pm\n\nCost:\nFree\n\n\n\n\n\nVenue\n\n\nEmerson Center-\n1590 27th Avenue\n\nVero\, FL 32960 United States\n\n\n  \n\n\n 
URL:https://www.mandyramsey.com/event-null/art-exhibition-anin-person-workshop-vero-beach-florida-february-8th-2-2/
LOCATION:Emerson Center\, 1590 27th Avenue\, Vero Beach\, FL\, 32960\, United States
CATEGORIES:Art Exhibition,Events
ATTACH;FMTTYPE=image/jpeg:https://www.mandyramsey.com/wp-content/uploads/2026/02/UU-Reception.jpg
END:VEVENT
END:VCALENDAR