BEGIN:VCALENDAR
VERSION:2.0
PRODID:-//Mandy Ramsey - ECPv6.15.20//NONSGML v1.0//EN
CALSCALE:GREGORIAN
METHOD:PUBLISH
X-ORIGINAL-URL:https://www.mandyramsey.com
X-WR-CALDESC:Events for Mandy Ramsey
REFRESH-INTERVAL;VALUE=DURATION:PT1H
X-Robots-Tag:noindex
X-PUBLISHED-TTL:PT1H
BEGIN:VTIMEZONE
TZID:America/Anchorage
BEGIN:DAYLIGHT
TZOFFSETFROM:-0900
TZOFFSETTO:-0800
TZNAME:AKDT
DTSTART:20240310T110000
END:DAYLIGHT
BEGIN:STANDARD
TZOFFSETFROM:-0800
TZOFFSETTO:-0900
TZNAME:AKST
DTSTART:20241103T100000
END:STANDARD
BEGIN:DAYLIGHT
TZOFFSETFROM:-0900
TZOFFSETTO:-0800
TZNAME:AKDT
DTSTART:20250309T110000
END:DAYLIGHT
BEGIN:STANDARD
TZOFFSETFROM:-0800
TZOFFSETTO:-0900
TZNAME:AKST
DTSTART:20251102T100000
END:STANDARD
BEGIN:DAYLIGHT
TZOFFSETFROM:-0900
TZOFFSETTO:-0800
TZNAME:AKDT
DTSTART:20260308T110000
END:DAYLIGHT
BEGIN:STANDARD
TZOFFSETFROM:-0800
TZOFFSETTO:-0900
TZNAME:AKST
DTSTART:20261101T100000
END:STANDARD
END:VTIMEZONE
BEGIN:VEVENT
DTSTART;TZID=America/Anchorage:20250208T130000
DTEND;TZID=America/Anchorage:20250208T170000
DTSTAMP:20260425T064847
CREATED:20241209T183204Z
LAST-MODIFIED:20250114T231929Z
UID:3630-1739019600-1739034000@www.mandyramsey.com
SUMMARY:In-Person Self-care\, Creativity\, and Connection Workshop- Vero Beach\, Florida- February 8th
DESCRIPTION:Where: Vero Beach\, Florida \nWhen: February 8th\, 2025 \nCarve out the time for self-care\, creativity\, and connection as we explore writing prompts and yoga\, and create a vision board/dream map to set our intentions for the new year.
URL:https://www.mandyramsey.com/event-null/in-person-workshop-vero-beach-florida-february-8th/
CATEGORIES:Events,Workshops
ATTACH;FMTTYPE=image/jpeg:https://www.mandyramsey.com/wp-content/uploads/2024/12/Singing-Bowls.jpg
ORGANIZER;CN="Mandy Ramsey":MAILTO:mandyramseyyoga@gmail.com
END:VEVENT
END:VCALENDAR